Workbook

Sheet 事業実施にあたっての注意事項（厳守）

Sheet 申請時提出物一覧
A1: コミュニティ助成事業 必要書類一覧表
A2: 助成申請に際して提出する書類 | D2: ◎:必須 〇：初回申請及び順番が6番までの自治会は必須 △：該当する場合は要提出
B3: 書類名 | C3: 一般 | D3: 留意事項・注意点
B4: 提出部数 | C4: 正副 2部
A5: 1 | B5: 様式第１号（第５条関係） コミュニティ助成事業補助金交付申請書 | C5: ◎ | D5: コミュニティ助成を申請するすべての自治会が必須
A6: 2 | B6: 申請書（別記様式第１号及び別表） | C6: ○ | D6: 原本を提出。 ※初回申請及び順番が6番までの自治会は必須 実施時期 当年中の日付 報告書提出 事業完了の日から2か月以内で翌年1月31日までの日付 | E6: 何番までが必須か
A7: 3 | B7: 事業実施主体規約 | C7: ○ | D7: コピーで可。 ※初回申請及び順番が6番までの自治会は必須 | E7: 何番までが必須か
A8: 4 | B8: 事業実施主体の今年度事業計画 及び予算書 | C8: ○ | D8: コピーで可。 ※初回申請及び順番が6番までの自治会は必須 | E8: 何番までが必須か
A9: 5 | B9: 管理運営規程及び備品管理台帳 | C9: ○ | D9: ※初回申請及び順番が6番までの自治会は必須 | E9: 何番までが必須か
A10: 6 | B10: 土地・建物が使用できる根拠書類 | C10: △ | D10: 自治会所有の土地・建物以外（個人所有土地・建物、町有地など）に設置・保管する場合は必要
A11: 7 | B11: 金額積算根拠（見積書等） | C11: ○ | D11: コピーで可。購入備品の品番は必ず明記をお願いします。 ※初回申請及び順番が6番までの自治会は必須 | E11: 何番までが必須か
A12: 8 | B12: 事業内容に関する資料 | C12: ○ | D12: カタログ等のカラーコピー、事業の企画書や説明資料等。 ※初回申請及び順番が6番までの自治会は必須 | E12: 何番までが必須か

Sheet 様式第１号（第５条関係）
A1: 様式第１号（第５条関係）
A2: 9
N3: 令和 年 月 日
A5: まんのう町長 栗田 隆義 様
J8: 所在 | M8: まんのう町▲▼XXXX番地XX
J9: 団体名 | M9: ■■自治会
J10: 代表者名 | M10: ●● ●● | Q10: 印
A13: 補助金の交付を受けたいので、まんのう町コミュニティ助成事業補助金交付要項第５条の規定により次のとおり申請します。
A15: 助成事業名 | G15: 一般コミュニティ助成事業
A17: 事業の目的・内容 | G17: ■■自治会は、○世帯・約○人で構成され、神社の清掃活動や地域の祭礼、盆踊り、防災訓練などを会員相互の協力により実施し、地域の連帯感の醸成に努めています。しかしながら、祭礼や各種行事で使用してきたテント、太鼓、音響設備等は老朽化・破損が進み、安全な運営に支障が生じています。当自治会は世帯数が少なく高齢化も進んでいることから、各戸への負担を求めることが困難な状況にあり、これらの活動用備品を更新・整備することで、世代を超えた住民交流と地域コミュニティの活性化を図りたく、本助成を必要とします。 一般コミュニティ助成事業は、住民が自主的に行うコミュニティ活動の促進を図り、地域の連帯感に基づく自治意識を盛り上げることを目指すものです。
A24: 交付申請額 | G24: =第1号!D5 -> 2500000
A26: 添付書類 | G26: (1) 補助対象事業の見積書の写し (2) 自治総合センターが定める必要書類 (3) その他
A31: 備考

Sheet 別記様式第1号（自治会→町）
N2: ='様式第１号（第５条関係）'!N3 -> 令和 年 月 日
A3: まんのう町長 栗田 隆義 様
I6: ='様式第１号（第５条関係）'!M9&" "&'様式第１号（第５条関係）'!M10&" "&"印" -> ■■自治会 ●● ●● 印
D11: コミュニティ助成事業 助成申請書
A15: 別記のとおり標記に関する事業を行いたいので、助成されるよう申請します。
A18: ○ | B18: 一般コミュニティ助成事業 | L18: 青少年健全育成助成事業
B19: コミュニティセンター助成事業 | L19: 地域づくり助成事業
B20: 地域防災組織育成助成事業 | L20: ア．共生の地域づくり助成事業
B21: ア．自主防災組織育成 | L21: イ．活力ある地域づくり助成事業
B22: イ．消防団育成 | M22: 地域資源活用
B23: ウ．女性防火クラブ育成 | M23: 広域連携推進
C24: 防火防災訓練用資器材 | L24: 地域国際化推進助成事業
C25: 防火広報用視聴覚資器材 | L25: 多文化共生
B26: エ．幼年消防クラブ育成 | L26: 国際理解推進
B27: オ．女性消防隊育成
B28: カ．少年消防クラブ育成
B31: 助成対象団体連絡責任者
C32: 所 属 | F32: ='様式第１号（第５条関係）'!M9 -> ■■自治会
C33: 職・氏名 | F33: 会長 | I33: ='様式第１号（第５条関係）'!M10 -> ●● ●●
C34: 電 話 | F34: 0877-XX-XXXX
C35: Ｆ Ａ Ｘ | F35: 0877-XX-XXXX
C36: 電子メール | F36: ○○○@○○○.jp
A39: １．事業実施主体
B40: 都道府県名 | E40: 香川県 | J40: 市（区）町村名 | N40: まんのう町
B41: 1. 組織の名称 | G41: ='様式第１号（第５条関係）'!M9 -> ■■自治会
B42: 2. 事業所所在地 | G42: 766-XXXX | J42: XXX-XXX-XXXX
B43: （電話番号） | G43: ='様式第１号（第５条関係）'!M8 -> まんのう町▲▼XXXX番地XX
B44: 3. 代表者氏名 | G44: ='様式第１号（第５条関係）'!M10 -> ●● ●●
B45: 4. 結成年月日 | G45: 昭和★★年★★月★★日
B46: 5. 市（区）町村人口 | G46: 市（区）町村人口 | K46: ◎◎人 | O46: （令和●年●月現在）
B47: 活動対象地域の人口 | G47: 活動対象地域 | K47: ◇◇人 | O47: （令和●年4月現在）
A50: ２．事業実施主体の説明
A51: ■■自治会は◆◆戸、人口◇◇人の小規模な自治会である。主な活動として、自治会区域内の清掃活動や高齢者等の見守り活動を会員全体の協力のもとに実施している。また、自治会館を拠点として定例会、花見、鏡開き、盆踊り等の行事を開催し、会員相互の親睦と地域の連帯感の醸成を図っている。
A58: ３．助成申請額
A59: 事業費総額（Ａ） | F59: 一般財源等充当額（Ｂ） | K59: 助成申請額（Ａ―Ｂ） | T59: 助成申請額（Ａ―Ｂ）
A60: =第1号!F41 -> 2510000 | F60: =第1号!D6 -> 10000 | L60: =IF(LEN($T60)>=1, MID($T60,1, 1), "") -> 2 | M60: =IF(LEN($T60)>=2, MID($T60,2, 1), "") -> 5 | N60: =IF(LEN($T60)>=3, MID($T60,3, 1), "") -> 0 | O60: =IF(LEN($T60)>=4, MID($T60,4, 1), "") -> 0 | P60: =IF(LEN($T60)>=5, MID($T60,5, 1), "") -> 0 | Q60: =IF(LEN($T60)>=6, MID($T60,6, 1), "") -> 0 | R60: =IF(LEN($T60)>=7, MID($T60,7, 1), "") -> 0 | T60: =第1号!D5 -> 2500000
E61: 円 | J61: 円 | S61: 円
A64: ４．助成申請事業の計画
A65: （１）助成申請事業の名称
A66: 地域行事用備品（折りたたみ式テント、折りたたみ机・椅子、音響設備一式、発電機）の整備
...

Sheet 別記様式第1号 （町→県）
N1: ●ま企発第●号
N2: 令和 年 月 日
A3: 一般財団法人 自治総合センター
A4: 理事長 岡崎 浩巳 殿
I6: 香川県仲多度郡まんのう町長 栗田 隆義 印
N8: 登録番号 T1000020374067
D11: コミュニティ助成事業 助成申請書
A15: 別記のとおり標記に関する事業を行いたいので、助成されるよう申請します。
A18: ○ | B18: 一般コミュニティ助成事業 | L18: 青少年健全育成助成事業
B19: コミュニティセンター助成事業 | L19: 地域づくり助成事業
B20: 地域防災組織育成助成事業 | L20: ア．共生の地域づくり助成事業
B21: ア．自主防災組織育成 | L21: イ．活力ある地域づくり助成事業
B22: イ．消防団育成 | M22: 地域資源活用
B23: ウ．女性防火クラブ育成 | M23: 広域連携推進
C24: 防火防災訓練用資器材 | L24: 地域国際化推進助成事業
C25: 防火広報用視聴覚資器材 | L25: 多文化共生
B26: エ．幼年消防クラブ育成 | L26: 国際理解推進
B27: オ．女性消防隊育成
B28: カ．少年消防クラブ育成
B31: 助成対象団体連絡責任者
C32: 所 属 | F32: まんのう町企画政策課
C33: 職・氏名 | F33: 課長補佐 | I33: 常包 一博
C34: 電 話 | F34: 0877 - 73 - 0106
C35: Ｆ Ａ Ｘ | F35: 0877 - 73 - 0113
C36: 電子メール | F36: kikaku@town.manno.lg.jp
A39: １．事業実施主体
B40: 都道府県名 | E40: 香川県 | J40: 市（区）町村名 | N40: まんのう町
B41: 1. 組織の名称 | G41: ='別記様式第1号（自治会→町）'!G41 -> ■■自治会
B42: 2. 事業所所在地 | G42: ="〒"&'別記様式第1号（自治会→町）'!G42 -> 〒766-XXXX | J42: ="("&'別記様式第1号（自治会→町）'!J42&")" -> (XXX-XXX-XXXX )
B43: （電話番号） | G43: ='別記様式第1号（自治会→町）'!G43 -> まんのう町▲▼XXXX番地XX
B44: 3. 代表者氏名 | G44: ='様式第１号（第５条関係）'!M10 -> ●● ●●
B45: 4. 結成年月日 | G45: ='別記様式第1号（自治会→町）'!G45 -> 昭和★★年★★月★★日
B46: 5. 市（区）町村人口 | G46: 市（区）町村人口 | K46: ='別記様式第1号（自治会→町）'!K46 -> ◎◎人 | O46: ='別記様式第1号（自治会→町）'!O46 -> （令和●年●月現在）
B47: 活動対象地域の人口 | G47: 活動対象地域 | K47: ='別記様式第1号（自治会→町）'!K47 -> ◇◇人 | O47: ='別記様式第1号（自治会→町）'!O47 -> （令和●年4月現在）
A50: ２．事業実施主体の説明
A51: ='別記様式第1号（自治会→町）'!A51 -> ■■自治会は◆◆戸、人口◇◇人の小規模な自治会である。主な活動として、自治会区域内の清掃活動や高齢者等の見守り活動を会員全体の協力のもとに実施している。また、自治会館を拠点として定例会、花見、鏡開き、盆踊り等の行事を開催し、会員相互の親睦と地域の連帯感の醸成を図っている。
A58: ３．助成申請額
A59: 事業費総額（Ａ） | F59: 一般財源等充当額（Ｂ） | K59: 助成申請額（Ａ―Ｂ） | T59: 助成申請額（Ａ―Ｂ）
A60: ='別記様式第1号（自治会→町）'!A60 -> 2510000 | F60: ='別記様式第1号（自治会→町）'!F60 -> 10000 | L60: =IF(LEN($T60)>=1, MID($T60,1, 1), "") -> 2 | M60: =IF(LEN($T60)>=2, MID($T60,2, 1), "") -> 5 | N60: =IF(LEN($T60)>=3, MID($T60,3, 1), "") -> 0 | O60: =IF(LEN($T60)>=4, MID($T60,4, 1), "") -> 0 | P60: =IF(LEN($T60)>=5, MID($T60,5, 1), "") -> 0 | Q60: =IF(LEN($T60)>=6, MID($T60,6, 1), "") -> 0 | R60: =IF(LEN($T60)>=7, MID($T60,7, 1), "") -> 0 | T60: ='別記様式第1号（自治会→町）'!T60 -> 2500000
E61: 円 | J61: 円 | S61: 円
...

Sheet 別記様式第1号 (別紙)
A1: 別紙
A3: ５．宝くじの社会貢献広報の仕方
A5: （２）購入備品、設備、印刷物等への広報表示
A6: 番号 | B6: 購入備品 | G6: 表示場所 | L6: 大きさ（縦×横）
A7: 1 | B7: 折りたたみ式テント | C7: 折りたたみ式テント | D7: 折りたたみ式テント | E7: 折りたたみ式テント | F7: 折りたたみ式テント | G7: 天幕（屋根）部分 | H7: 天幕（屋根）部分 | I7: 天幕（屋根）部分 | J7: 天幕（屋根）部分 | K7: 天幕（屋根）部分 | L7: 宝くじネーム42ミリ×52ミリ | M7: 宝くじネーム42ミリ×52ミリ | N7: 宝くじネーム42ミリ×52ミリ | O7: 宝くじネーム42ミリ×52ミリ | P7: 宝くじネーム42ミリ×52ミリ | Q7: 宝くじネーム42ミリ×52ミリ | R7: 宝くじネーム42ミリ×52ミリ | S7: 宝くじネーム42ミリ×52ミリ
A8: 2 | B8: 折りたたみ机 | C8: 折りたたみ机 | D8: 折りたたみ机 | E8: 折りたたみ机 | F8: 折りたたみ机 | G8: 天板または脚部 | H8: 天板または脚部 | I8: 天板または脚部 | J8: 天板または脚部 | K8: 天板または脚部 | L8: ○○ミリ×○○ミリ | M8: ○○ミリ×○○ミリ | N8: ○○ミリ×○○ミリ | O8: ○○ミリ×○○ミリ | P8: ○○ミリ×○○ミリ | Q8: ○○ミリ×○○ミリ | R8: ○○ミリ×○○ミリ | S8: ○○ミリ×○○ミリ
A9: 3 | B9: 折りたたみ椅子 | C9: 折りたたみ椅子 | D9: 折りたたみ椅子 | E9: 折りたたみ椅子 | F9: 折りたたみ椅子 | G9: 背もたれまたは座面側面 | H9: 背もたれまたは座面側面 | I9: 背もたれまたは座面側面 | J9: 背もたれまたは座面側面 | K9: 背もたれまたは座面側面 | L9: ○○ミリ×○○ミリ | M9: ○○ミリ×○○ミリ | N9: ○○ミリ×○○ミリ | O9: ○○ミリ×○○ミリ | P9: ○○ミリ×○○ミリ | Q9: ○○ミリ×○○ミリ | R9: ○○ミリ×○○ミリ | S9: ○○ミリ×○○ミリ
A10: 4 | B10: 音響設備（アンプ・スピーカー） | C10: 音響設備（アンプ・スピーカー） | D10: 音響設備（アンプ・スピーカー） | E10: 音響設備（アンプ・スピーカー） | F10: 音響設備（アンプ・スピーカー） | G10: 本体前面 | H10: 本体前面 | I10: 本体前面 | J10: 本体前面 | K10: 本体前面 | L10: ○○ミリ×○○ミリ | M10: ○○ミリ×○○ミリ | N10: ○○ミリ×○○ミリ | O10: ○○ミリ×○○ミリ | P10: ○○ミリ×○○ミリ | Q10: ○○ミリ×○○ミリ | R10: ○○ミリ×○○ミリ | S10: ○○ミリ×○○ミリ
A11: 5 | B11: 発電機 | C11: 発電機 | D11: 発電機 | E11: 発電機 | F11: 発電機 | G11: 本体側面 | H11: 本体側面 | I11: 本体側面 | J11: 本体側面 | K11: 本体側面 | L11: ○○ミリ×○○ミリ | M11: ○○ミリ×○○ミリ | N11: ○○ミリ×○○ミリ | O11: ○○ミリ×○○ミリ | P11: ○○ミリ×○○ミリ | Q11: ○○ミリ×○○ミリ | R11: ○○ミリ×○○ミリ | S11: ○○ミリ×○○ミリ
A12: 6
A13: 7
A14: 8
A15: 9
A16: 10
A17: 11
A18: 12
A19: 13
A20: 14
A21: 15
A22: ※もし、ペイント・印刷が不可能な場合（シール貼付の場合）は、その理由をわかりやすく簡単に示してください。（なお、表示は剥離の懸念のないようにしてください。表示部分の全面が固定化・接着されていない場合や、接着が不十分と認められる場合は、不可とされる場合がありますので、御留意ください。）

Sheet 第1号
B1: 都道府県名： | C1: 香川県 | E1: 市区町村名： | F1: まんのう町 | I1: 事業実施主体名： | J1: ='別記様式第1号（自治会→町）'!G41 -> ■■自治会
A2: 有 | B2: 無 | C2: 不要
A3: 【事業収支の内訳】
A4: 収入内容 | D4: 金額（円） | G4: 備考
A5: コミュニティ助成金（＝Ａ－Ｂ） | D5: 2500000 | G5: 一般コミュニティ助成事業
A6: =J1&"一般会計より" -> ■■自治会一般会計より | D6: 10000
A12: 事業収入合計（＝事業費総額Ａ） | D12: =SUM(D5:F11) -> 2510000
A13: 見積書 番号 | B13: 備品・設備名、 費用区分 | C13: 規格・仕様・ 形式・メーカー、 費用項目等 | D13: 数量 | E13: 単価（円） | F13: 金額（円） | G13: 対象外 経費 | H13: 整備目的・用途 | J13: 広報 表示 | K13: 保管場所 設置場所 名称
A14: 1 | B14: 折りたたみ式テント | C14: xxxxxxxx | D14: 1 | E14: 150000 | F14: =E14*D14 -> 150000 | H14: 自治会活動 | J14: ○ | K14: ■■自治会集会場
A15: 2 | B15: 折りたたみ机 | C15: xxxxxxxx | D15: 1 | E15: 530000 | F15: =E15*D15 -> 530000 | H15: 自治会活動 | J15: ○ | K15: ■■自治会集会場
A16: 3 | B16: 折りたたみ椅子 | C16: xxxxxxxx | D16: 1 | E16: 260000 | F16: =E16*D16 -> 260000 | H16: 自治会活動 | J16: ○ | K16: ■■自治会集会場
A17: 4 | B17: 音響設備（アンプ・スピーカー） | C17: xxxxxxxx | D17: 1 | E17: 70000 | F17: =E17*D17 -> 70000 | H17: 自治会活動 | J17: ○ | K17: ■■自治会集会場
A18: 5 | B18: 発電機 | C18: xxxxxxxx | D18: 1 | E18: 1500000 | F18: =E18*D18 -> 1500000 | H18: 自治会活動 | J18: ○ | K18: ■■自治会集会場
A19: 6 | F19: =E19*D19 -> 0
A20: 7 | F20: =E20*D20 -> 0
A21: 8 | F21: =E21*D21 -> 0
A22: 9 | F22: =E22*D22 -> 0
A23: 10 | F23: =E23*D23 -> 0
A24: 11 | F24: =E24*D24 -> 0
A25: 12 | F25: =E25*D25 -> 0
A26: 13 | F26: =E26*D26 -> 0
A27: 14 | F27: =E27*D27 -> 0
A28: 15 | F28: =E28*D28 -> 0
A29: 16 | F29: =E29*D29 -> 0
A30: 17 | F30: =E30*D30 -> 0
... A38: 25 | F38: =E38*D38 -> 0
A39: 対象経費合計① | F39: =SUMIF(G14:G38,"",F14:F38) -> 2510000
A40: 対象外経費合計② | F40: =SUMIF(G14:G38,"○",F14:F38) -> 0
A41: 事業支出合計（①＋②＝事業費総額Ａ） | F41: =F39+F40 -> 2510000
A43: 【コミュニティセンターの建設・大規模修繕についての説明】
A44: 所在地（地番）
A45: 土地の所有者
A46: 使用承諾の有無（無の場合の承諾予定日）
A47: 権利部（乙区）の有無（有の場合のその内容）
A48: 土地面積 | E48: 建物面積（計画）
A49: 建物の構造
A50: 建物の所有者（大規模修繕の場合）
A51: 地縁団体認可の有無（無の場合の認可予定日）
A52: 広報表示場所
A54: 【備品・設備の保管場所・設置場所についての説明】
...

Sheet 第3・4号
B1: 都道府県名： | C1: 香川県 | E1: 市区町村名： | F1: まんのう町 | I1: 事業実施主体名： | J1: ='別記様式第1号（自治会→町）'!G41 -> ■■自治会
A2: 有 | B2: 無
A4: 【事業収支の内訳】
A5: 変更前（当初申請時） | M5: 変更後（5月21日内容変更事前協議済み）、決算（実績報告時） | X5: 増減 | AA5: 変更理由
A6: 収入内容 | D6: 金額（円） | G6: 備考 | M6: 収入内容 | P6: 金額（円） | S6: 備考 | X6: 金額（円） | AA6: その他
A7: =IF(第1号!A5="","",第1号!A5) -> コミュニティ助成金（＝Ａ－Ｂ） | D7: =IF(第1号!D5="","",第1号!D5) -> 2500000 | G7: =IF(第1号!G5="","",第1号!G5) -> 一般コミュニティ助成事業 | M7: コミュニティ助成金（＝Ａ－Ｂ） | X7: =IFERROR(P7-D7,"") -> -2500000
A8: =IF(第1号!A6="","",第1号!A6) -> ■■自治会一般会計より | D8: =IF(第1号!D6="","",第1号!D6) -> 10000 | G8: =IF(第1号!G6="","",第1号!G6) | X8: =IFERROR(P8-D8,"") -> -10000
A9: =IF(第1号!A7="","",第1号!A7) | D9: =IF(第1号!D7="","",第1号!D7) | G9: =IF(第1号!G7="","",第1号!G7) | X9: =IFERROR(P9-D9,"")
X10: =P10-D10 -> 0
X11: =P11-D11 -> 0
X12: =P12-D12 -> 0
X13: =P13-D13 -> 0
A14: 事業収入合計（＝事業費総額Ａ） | D14: =SUM(D7:F13) -> 2510000 | M14: 事業収入合計（＝事業費総額Ａ） | P14: =SUM(P7:R13) -> 0 | X14: =P14-D14 -> -2510000
A15: 見積書 番号 | B15: 備品・設備名、 費用区分 | C15: 規格・仕様・ 形式・メーカー、 費用項目等 | D15: 数量 | E15: 単価（円） | F15: 金額（円） | G15: 対象外 経費 | H15: 整備目的・用途 | J15: 広報 表示 | K15: 保管場所 設置場所 名称 | M15: 見積書 番号 | N15: 備品・設備名、 費用区分 | O15: 規格・仕様・ 形式・メーカー、 費用項目等 | P15: 数量 | Q15: 単価（円） | R15: 金額（円） | S15: 対象外 経費 | T15: 整備目的・用途 | V15: 広報 表示 | W15: 保管場所 設置場所 名称 | X15: 数量 | Y15: 単価（円） | Z15: 金額（円）
A16: 1 | B16: =IF(第1号!B14="","",第1号!B14) -> 折りたたみ式テント | C16: =IF(第1号!C14="","",第1号!C14) -> xxxxxxxx | D16: =IF(第1号!D14="","",第1号!D14) -> 1 | E16: =IF(第1号!E14="","",第1号!E14) -> 150000 | F16: =IF(第1号!F14="","",第1号!F14) -> 150000 | G16: =IF(第1号!G14="","",第1号!G14) | H16: =IF(第1号!H14="","",第1号!H14) -> 自治会活動 | I16: =IF(第1号!I14="","",第1号!I14) | ... K16: =IF(第1号!K14="","",第1号!K14) -> ■■自治会集会場 | R16: =Q16*P16 -> 0 | X16: =IFERROR(P16-D16,0) -> -1 | Y16: =IFERROR(Q16-E16,0) -> -150000 | Z16: =R16-F16 -> -150000
A17: 2 | B17: =IF(第1号!B15="","",第1号!B15) -> 折りたたみ机 | C17: =IF(第1号!C15="","",第1号!C15) -> xxxxxxxx | D17: =IF(第1号!D15="","",第1号!D15) -> 1 | E17: =IF(第1号!E15="","",第1号!E15) -> 530000 | F17: =IF(第1号!F15="","",第1号!F15) -> 530000 | G17: =IF(第1号!G15="","",第1号!G15) | H17: =IF(第1号!H15="","",第1号!H15) -> 自治会活動 | I17: =IF(第1号!I15="","",第1号!I15) | ... K17: =IF(第1号!K15="","",第1号!K15) -> ■■自治会集会場 | R17: =Q17*P17 -> 0 | X17: =IFERROR(P17-D17,0) -> -1 | Y17: =IFERROR(Q17-E17,0) -> -530000 | Z17: =R17-F17 -> -530000
A18: 3 | B18: =IF(第1号!B16="","",第1号!B16) -> 折りたたみ椅子 | C18: =IF(第1号!C16="","",第1号!C16) -> xxxxxxxx | D18: =IF(第1号!D16="","",第1号!D16) -> 1 | E18: =IF(第1号!E16="","",第1号!E16) -> 260000 | F18: =IF(第1号!F16="","",第1号!F16) -> 260000 | G18: =IF(第1号!G16="","",第1号!G16) | H18: =IF(第1号!H16="","",第1号!H16) -> 自治会活動 | I18: =IF(第1号!I16="","",第1号!I16) | ... K18: =IF(第1号!K16="","",第1号!K16) -> ■■自治会集会場 | R18: =Q18*P18 -> 0 | X18: =IFERROR(P18-D18,0) -> -1 | Y18: =IFERROR(Q18-E18,0) -> -260000 | Z18: =R18-F18 -> -260000
A19: 4 | B19: =IF(第1号!B17="","",第1号!B17) -> 音響設備（アンプ・スピーカー） | C19: =IF(第1号!C17="","",第1号!C17) -> xxxxxxxx | D19: =IF(第1号!D17="","",第1号!D17) -> 1 | E19: =IF(第1号!E17="","",第1号!E17) -> 70000 | F19: =IF(第1号!F17="","",第1号!F17) -> 70000 | G19: =IF(第1号!G17="","",第1号!G17) | H19: =IF(第1号!H17="","",第1号!H17) -> 自治会活動 | I19: =IF(第1号!I17="","",第1号!I17) | ... K19: =IF(第1号!K17="","",第1号!K17) -> ■■自治会集会場 | R19: =Q19*P19 -> 0 | X19: =IFERROR(P19-D19,0) -> -1 | Y19: =IFERROR(Q19-E19,0) -> -70000 | Z19: =R19-F19 -> -70000
A20: 5 | B20: =IF(第1号!B18="","",第1号!B18) -> 発電機 | C20: =IF(第1号!C18="","",第1号!C18) -> xxxxxxxx | D20: =IF(第1号!D18="","",第1号!D18) -> 1 | E20: =IF(第1号!E18="","",第1号!E18) -> 1500000 | F20: =IF(第1号!F18="","",第1号!F18) -> 1500000 | G20: =IF(第1号!G18="","",第1号!G18) | H20: =IF(第1号!H18="","",第1号!H18) -> 自治会活動 | I20: =IF(第1号!I18="","",第1号!I18) | ... K20: =IF(第1号!K18="","",第1号!K18) -> ■■自治会集会場 | R20: =Q20*P20 -> 0 | X20: =IFERROR(P20-D20,0) -> -1 | Y20: =IFERROR(Q20-E20,0) -> -1500000 | Z20: =R20-F20 -> -1500000
A21: 6 | B21: =IF(第1号!B19="","",第1号!B19) | C21: =IF(第1号!C19="","",第1号!C19) | D21: =IF(第1号!D19="","",第1号!D19) | E21: =IF(第1号!E19="","",第1号!E19) | F21: =IF(第1号!F19="","",第1号!F19) -> 0 | G21: =IF(第1号!G19="","",第1号!G19) | H21: =IF(第1号!H19="","",第1号!H19) | I21: =IF(第1号!I19="","",第1号!I19) | ... K21: =IF(第1号!K19="","",第1号!K19) | R21: =Q21*P21 -> 0 | X21: =IFERROR(P21-D21,0) -> 0 | Y21: =IFERROR(Q21-E21,0) -> 0 | Z21: =R21-F21 -> 0
A22: 7 | B22: =IF(第1号!B20="","",第1号!B20) | C22: =IF(第1号!C20="","",第1号!C20) | D22: =IF(第1号!D20="","",第1号!D20) | E22: =IF(第1号!E20="","",第1号!E20) | F22: =IF(第1号!F20="","",第1号!F20) -> 0 | G22: =IF(第1号!G20="","",第1号!G20) | H22: =IF(第1号!H20="","",第1号!H20) | I22: =IF(第1号!I20="","",第1号!I20) | ... K22: =IF(第1号!K20="","",第1号!K20) | R22: =Q22*P22 -> 0 | X22: =IFERROR(P22-D22,0) -> 0 | Y22: =IFERROR(Q22-E22,0) -> 0 | Z22: =R22-F22 -> 0
A23: 8 | B23: =IF(第1号!B21="","",第1号!B21) | C23: =IF(第1号!C21="","",第1号!C21) | D23: =IF(第1号!D21="","",第1号!D21) | E23: =IF(第1号!E21="","",第1号!E21) | F23: =IF(第1号!F21="","",第1号!F21) -> 0 | G23: =IF(第1号!G21="","",第1号!G21) | H23: =IF(第1号!H21="","",第1号!H21) | I23: =IF(第1号!I21="","",第1号!I21) | ... K23: =IF(第1号!K21="","",第1号!K21) | R23: =Q23*P23 -> 0 | X23: =IFERROR(P23-D23,0) -> 0 | Y23: =IFERROR(Q23-E23,0) -> 0 | Z23: =R23-F23 -> 0
A24: 9 | B24: =IF(第1号!B22="","",第1号!B22) | C24: =IF(第1号!C22="","",第1号!C22) | D24: =IF(第1号!D22="","",第1号!D22) | E24: =IF(第1号!E22="","",第1号!E22) | F24: =IF(第1号!F22="","",第1号!F22) -> 0 | G24: =IF(第1号!G22="","",第1号!G22) | H24: =IF(第1号!H22="","",第1号!H22) | I24: =IF(第1号!I22="","",第1号!I22) | ... K24: =IF(第1号!K22="","",第1号!K22) | R24: =Q24*P24 -> 0 | X24: =IFERROR(P24-D24,0) -> 0 | Y24: =IFERROR(Q24-E24,0) -> 0 | Z24: =R24-F24 -> 0
A25: 10 | B25: =IF(第1号!B23="","",第1号!B23) | C25: =IF(第1号!C23="","",第1号!C23) | D25: =IF(第1号!D23="","",第1号!D23) | E25: =IF(第1号!E23="","",第1号!E23) | F25: =IF(第1号!F23="","",第1号!F23) -> 0 | G25: =IF(第1号!G23="","",第1号!G23) | H25: =IF(第1号!H23="","",第1号!H23) | I25: =IF(第1号!I23="","",第1号!I23) | ... K25: =IF(第1号!K23="","",第1号!K23) | R25: =Q25*P25 -> 0 | X25: =IFERROR(P25-D25,0) -> 0 | Y25: =IFERROR(Q25-E25,0) -> 0 | Z25: =R25-F25 -> 0
A26: 11 | B26: =IF(第1号!B24="","",第1号!B24) | C26: =IF(第1号!C24="","",第1号!C24) | D26: =IF(第1号!D24="","",第1号!D24) | E26: =IF(第1号!E24="","",第1号!E24) | F26: =IF(第1号!F24="","",第1号!F24) -> 0 | G26: =IF(第1号!G24="","",第1号!G24) | H26: =IF(第1号!H24="","",第1号!H24) | I26: =IF(第1号!I24="","",第1号!I24) | ... K26: =IF(第1号!K24="","",第1号!K24) | R26: =Q26*P26 -> 0 | X26: =IFERROR(P26-D26,0) -> 0 | Y26: =IFERROR(Q26-E26,0) -> 0 | Z26: =R26-F26 -> 0
A27: 12 | B27: =IF(第1号!B25="","",第1号!B25) | C27: =IF(第1号!C25="","",第1号!C25) | D27: =IF(第1号!D25="","",第1号!D25) | E27: =IF(第1号!E25="","",第1号!E25) | F27: =IF(第1号!F25="","",第1号!F25) -> 0 | G27: =IF(第1号!G25="","",第1号!G25) | H27: =IF(第1号!H25="","",第1号!H25) | I27: =IF(第1号!I25="","",第1号!I25) | ... K27: =IF(第1号!K25="","",第1号!K25) | R27: =Q27*P27 -> 0 | X27: =IFERROR(P27-D27,0) -> 0 | Y27: =IFERROR(Q27-E27,0) -> 0 | Z27: =R27-F27 -> 0
... A40: 25 | B40: =IF(第1号!B38="","",第1号!B38) | C40: =IF(第1号!C38="","",第1号!C38) | D40: =IF(第1号!D38="","",第1号!D38) | E40: =IF(第1号!E38="","",第1号!E38) | F40: =IF(第1号!F38="","",第1号!F38) -> 0 | G40: =IF(第1号!G38="","",第1号!G38) | H40: =IF(第1号!H38="","",第1号!H38) | I40: =IF(第1号!I38="","",第1号!I38) | ... K40: =IF(第1号!K38="","",第1号!K38) | R40: =Q40*P40 -> 0 | X40: =IFERROR(P40-D40,0) -> 0 | Y40: =IFERROR(Q40-E40,0) -> 0 | Z40: =R40-F40 -> 0
A41: 対象経費合計① | F41: =SUMIF(G16:G40,"",F16:F40) -> 2510000 | M41: 対象経費合計① | R41: =SUMIF(S16:S40,"",R16:R40) -> 0 | Z41: =R41-F41 -> -2510000
A42: 対象外経費合計② | F42: =SUMIF(G16:G40,"○",F16:F40) -> 0 | M42: 対象外経費合計② | R42: =SUMIF(S16:S40,"○",R16:R40) -> 0 | Z42: =R42-F42 -> 0
A43: 事業支出合計（①＋②＝事業費総額Ａ） | F43: =F41+F42 -> 2510000 | M43: 事業支出合計（①＋②＝事業費総額Ａ） | R43: =R41+R42 -> 0 | Z43: =R43-F43 -> -2510000
A45: 【コミュニティセンターの建設・大規模修繕についての説明】 | M45: 【コミュニティセンターの建設・大規模修繕についての説明】 | Y45: 【変更理由 その他】
A46: 所在地（地番） | M46: 所在地（地番）
A47: 土地の所有者 | M47: 土地の所有者
A48: 使用承諾の有無（無の場合の承諾予定日） | M48: 使用承諾の有無（無の場合の承諾予定日）
A49: 権利部（乙区）の有無（有の場合のその内容） | M49: 権利部（乙区）の有無（有の場合のその内容）
A50: 土地面積 | E50: 建物面積（計画） | M50: 土地面積 | Q50: 建物面積（計画）
A51: 建物の構造 | M51: 建物の構造
A52: 建物の所有者（大規模修繕の場合） | M52: 建物の所有者（大規模修繕の場合）
A53: 地縁団体認可の有無（無の場合の認可予定日） | M53: 地縁団体認可の有無（無の場合の認可予定日）
A54: 広報表示場所 | M54: 広報表示場所
...

Sheet チェックリスト（申請書提出時）
A1: 令和９年度コミュニティ助成事業 申請書提出時チェックリスト
B2: 書類名 | C2: 確認事項 | D2: 市（区）町村 チェック欄 | E2: 都道府県 チェック欄 | F2: 自治総合センター チェック欄
D3: 該当項目を「○」「×」でチェック （該当しない事業の項目は斜線）
A4: ◯ | B4: ☓
A5: 都道府県・市（区）町村名： | C5: ="事業実施主体名："&'別記様式第1号（自治会→町）'!G41 -> 事業実施主体名：■■自治会 | D5: 助成事業名： | E5: 一般コミュニティ
C6: 提出書類は原則A4縦サイズとしてください（説明資料はA3横サイズも可）。上記以外のサイズ（A4横向き、A3縦向きで印刷されたものも含む）の書類は添付しないようにお願いします。 | D6: ◯
A7: 1 | B7: 申請書（別記様式第１号及び別表） ※原本を提出 | C7: 【助成対象団体】 ・申請者としての団体名、代表者肩書・名前の記載、押印がなされているか？ ・適格請求書発行事業者番号の記載があるか？ | D7: ◯
C8: 【事業実施主体】 ・市（区）町村以外が事業実施主体の場合、一団体あたり、1件の申請となっているか？ ・市（区）町村以外が事業実施主体の場合、規約に記載の団体名称と一致しているか？ | D8: ◯
C9: 【事業実施主体の説明】 ・一般、コミセン、地域防災アの事業は、整備する施設や設備の維持管理はコミュニティ組織や自主防災組織が行うこととなっているか？ | D9: ◯
C10: 【助成申請額】 ・10万円単位となっているか？ ・当該助成事業における上限・下限金額の範囲内であるか？ ・事業費総額を超えていないか？ ・内訳は、別表記載の金額と一致しているか？ | D10: ◯
C11: 【助成申請事業の計画】 ・要綱、留意事項で対象とする事業となっているか？ ・「記載の仕方」に従って、すべての項目の記載が行われているか？ ・事業実施期間（事業開始日～事業完了日）は、令和9年度内となっているか？ ・国の補助金、地方債は充当されていないか？ | D11: ◯
C12: 【別表】 ・要綱、留意事項で対象とする事業となっているか？ ・「記載の仕方」に従って、すべての項目の記載が行われているか？ | D12: ◯
C13: 【別表】事業収支の内訳 ・事業収入合計は、事業支出合計と一致しているか？ ・事業支出の内訳は見積書等の記載内容と一致しているか？ ・要綱、留意事項で対象とする経費、対象外とする経費に分別できているか？ ・広報表示は、「宝くじの社会貢献広報の仕方」に基づいて、すべてのものに表示することとなっているか？ | D13: ◯
C14: 【別表】保管場所・設置場所の説明、コミセンの説明 ・土地や建物の説明事項は、登記内容と相違はないか？ ・使用承諾や権利部（乙区）の内容、地縁団体の認可については、要綱、留意事項に従って、事業の完了までに完備できる予定となっているか？ | D14: ◯
C15: 【宝くじの社会貢献広報の仕方】 ・市（区）町村の広報誌へ掲載することとなっているか？ ・広報誌発行予定日は、実績報告書提出予定日以前となっているか？ | D15: ◯
C16: 【添付資料】 ・添付資料に不足はないか？ ・順番通りに添付されているか？ | D16: ◯
A17: 2 | B17: 事業実施主体規約 ※コピーで可 | C17: ・事業実施主体が市（区）町村以外の場合、その事業実施主体の規約が添付されているか？ ・一般、コミセン、地域防災アの事業で事業実施主体が市（区）町村となる場合、整備する施設や設備の維持管理を行うコミュニティ組織や自主防災組織の規約が添付されているか？ | D17: ◯
A18: 3 | B18: 事業実施主体の令和8年度事業計画及び予算書 ※コピーで可 | C18: ・事業実施主体が市（区）町村以外の場合、その事業実施主体の事業計画及び予算書が添付されており、事業実施主体名が記載されているか？（該当資料のみを添付すること） ・一般、コミセン、地域防災アの事業で事業実施主体が市（区）町村となる場合、整備する施設や設備の維持管理を行うコミュニティ組織や自主防災組織の事業計画及び予算書が添付されており、その団体名が記載されているか？ | D18: ◯
A19: 4 | B19: 金額積算根拠（見積書等） ※コピーで可 | C19: ・合計額が事業費総額と一致しているか？ ・設備等の品番は明記されているか？ ・工事の見積書については、各工事内容の内訳明細書（細目別内訳書）が添付されているか？ | D19: ◯
A20: 5 | B20: 事業内容に関する資料 | C20: ・事業の詳細がわかる、カタログ等のカラーコピー、事業の企画書や説明資料等が添付されているか？ | D20: ◯
A21: 6 | B21: 土地登記簿謄本 ※コピーで可 | C21: 【土地を要する事業の場合】 ・申請日前3ヶ月以内発行のものとなっているか？ ・対象となるすべての地番の謄本が添付されているか？
A22: 7 | B22: 公図 ※コピーで可 | C22: 【土地を要する事業の場合】 ・申請日前3ヶ月以内発行のものとなっているか？ ・対象となるすべての地番の公図が添付されているか？
A23: 8 | B23: 建物工事に関する図面 （平面図・立面図等） ※コピーで可 | C23: ・コミュニティセンター助成事業、地域づくり助成事業区分アのうちバリアフリー化工事の申請の場合、添付されているか？
A24: 9 | B24: 財源に関する資料 （資金積立計画等） ※コピーで可 | C24: ・コミュニティセンター助成事業の申請の場合、通帳のコピー等の自己財源の根拠となる資料が添付されているか？
A25: 10 | B25: 議事録（総会資料等） ※コピーで可 | C25: ・コミュニティセンター助成事業の申請の場合、添付されているか？ ・コミュニティーセンター建設の決定に対する住民の総意がわかる資料となっているか？
C26: 申請書類は、「必要書類一覧表」に記載の資料等、必要最低限のものとしてください。 | D26: ◯
C27: ・上記チェック欄はすべて「○」となっているか？ ・一つでも「×」がある場合は、申請書の提出は不可。 | D27: ◯
B28: その他連絡事項
A29: 【ハード事業（施設又は設備の整備に関する事業）】 一般コミュニティ、コミュニティセンター、地域防災組織育成、地域づくり区分アのハード事業 【ソフト事業】 地域づくり区分アのソフト事業、地域づくり区分イ、地域の芸術環境づくりの各助成事業
B30: （センターメモ）
A37: 一般コミュニティ
A39: 地域防災ア
A40: 地域防災イ
A41: 地域防災ウ
A42: 地域防災エ
A43: 地域防災オ
A44: 地域防災カ
A45: 青少年健全育成
A46: 地域づくりア
A47: 地域づくりイ（地域資源）
...

Sheet 規約（例）
A1: 〇〇自治会会則
A3: 第1章 | B3: 総則
A4: 第１条 | B4: 本会は、以下に掲げるような地域的な共同活動を行うことにより、良好な地
A5: 域社会の維持及び形成に資することを目的とする。
A6: 1 | B6: 回覧板その他による区域内住民への周知事項
A7: ２．美化、清掃等区域内の環境整備
A8: ３．冠婚葬祭についての相互援助
A9: ４．会員相互の同好会等親睦に関する集会
A10: ５．集会場等所有資産の維持管理
A11: 第２条 本会は〇〇自治会と称する。
A12: 第３条 本会の区域はまんのう町〇〇－〇〇の区域とする。
A13: 第４条 | B13: 本会の会員は、第３条に定める区域に住所を有する個人とする。
A14: 第２章 | B14: 役員
A15: 第５条 | B15: 本会に次の役員を置く。
A16: 1 | B16: 会長 １名
A17: 2 | B17: 副会長 ２名
A18: 3 | B18: 会計 １名
A19: ４．監査 １名
A20: 第６条 役員は、総会において、会員の中から選任する。
A21: ２ 監事と会長、副会長及びその他の役員は、相互に兼ねることはできない。
A22: 第7条 会長は、本会を代表し、会務を総括する。
A23: ２ 副会長は、会長を補佐し、会長に事故があるとき又は会長が欠けたときはそ
A24: の職務を代行する。
A25: 第8条 役員の任期は１年とする。ただし、再任は妨げない。
A26: 第３章 | B26: 総会
A27: 第９条 本会の総会は、通常総会と臨時総会とする。
A28: ２ 総会は毎年５月末までに会長がこれを招集し、予算・会務の報告をする。
A29: ３ 総会の議長は、会長が行うものとする。
A30: ４ 総会は、会員の三分の二以上の出席がなければ、開会することができない。
A31: ５ 総会の議決は、出席した会員の過半数をもって決する。
A32: 第５章 会計
A33: 第１０条 本会の会計年度は、毎年４月１日に始まり、翌年３月３１日に終わる。
A35: 第６章 雑則
A36: 第１１条 本会の規約を改正しようとするとき又は、会務運営に必要な事項は、総会の議決を経なければならない。
A38: 附 則
A39: この規約は 年 月 日から施行する。

Sheet 収支事業計画（例）
A1: 令和●年度 ●●自治会事業計画
B3: 月 日 | C3: 活動内容
B4: 10月中旬 | C4: 自治会秋祭り参加
A13: 予 算 書
B14: 収 入 内 訳 | C14: 金 額
B15: 前年度繰越金
B16: 年会費
B17: 寄付金等
B18: 雑収入
B19: 計
B21: 支 出 内 訳 | C21: 金 額
B22: 保守管理費
B23: 交通費
B24: 保険料
B25: 備品購入費
B26: 雑費
B27: 計

Sheet 備品管理運営規定
A1: ○○自治会備品管理運営規程【案】
A3: 第１条 | B3: この規程は、宝くじ助成備品等運営規定の施行に関し、必要な事項を定めることを目的とする。
A5: 第２条 | B5: この規程に基づき管理運営する備品は次のとおりとする。
B6: （１）○○○ １式
A7: 第３条 | B7: 備品の管理保存場所は、○○会館（まんのう町○○―○ ）とする。
A8: 第４条 | B8: 備品の管理については、○○○○（例：企画自治会会員） が管理する。
A9: 第５条 | B9: 備品の使用は、○○自治会が使用する。
A10: 第６条 | B10: 備品に損傷・修繕・新規購入がある場合は、○○自治会の議決を経て実施する。その際の経費については、会費・寄附・助成金・その他をもって充当する。
A12: 第７条 | B12: 備品台帳を作成し、追加・削除の管理を行う。
A13: 第８条 | B13: 不用となった備品、又は修繕しても使用できる見込みのない備品は、総会の議決を経て廃棄する。
A15: 附 則 | B15: この規程は、令和 年 月 日から適用する。
A17: 様式 備品台帳（案）
A18: No. | B18: 品名 | D18: 備品登録日 | E18: 金額 | F18: 備考

Sheet 見積書

Sheet カタログ

Sheet 様式第２号（第６条関係）
A1: 様式第２号（第６条関係）
N3: ●ま企発第●号
N4: 46122
D6: ='様式第１号（第５条関係）'!A2 -> 9
A8: 団体名 | D8: ='様式第１号（第５条関係）'!M9 -> ■■自治会
A9: 代表者名 | D9: ='様式第１号（第５条関係）'!M10 -> ●● ●● | H9: 様
M11: まんのう町長 栗田 隆義 印
A13: =" "&TEXT('様式第１号（第５条関係）'!N3,"ggg e 年m 月d 日")&"付けで申請のありました補助金については、次のとおり決定しましたので、まんのう町コミュニティ助成事業補助金交付要項第６条の規定により通知します。" -> 令和 年 月 日付けで申請のありました補助金については、次のとおり決定しましたので、まんのう町コミュニティ助成事業補助金交付要項第６条の規定により通知します。
A15: 助成事業名 | G15: 一般コミュニティ助成事業
A17: 補助金交付決定額 | G17: ='様式第１号（第５条関係）'!G24 -> 2500000
A19: 補助金交付の条件 | G19: １．申請内容に基づき事業を行うこと。 基本的に購入物品の変更及び金額の大幅な変更不可。 ２．完了は年内を目途とする。 町から県、県から自治センターへの報告に期間を要するため。 ３．実績報告は完了後、速やかに提出すること。 添付書類についても申請書どおりに提出すること。 ４．特に例年チェックが厳しくなっていることから、書類不備、 啓発マーク（くーちゃん）が適正でない、写真の撮り方が 不鮮明などの指摘があり、やり直しを業者に命じた自治会も 出ているので注意すること。
A26: 備考 | G26: ※役員名簿ご提出と行き違い等で、既に自治会長が変更となっている場合、お手数ですが、次期会長様へお渡しいただけますようお願いいたします。 提出先・問い合わせ先 まんのう町役場 企画政策課 TEL ０８７７―７３－０１０６ FAX ０８７７－７３－０１１３

Sheet 様式第３号（第７条関係）
A1: 様式第３号（第７条関係）
A2: ='様式第１号（第５条関係）'!A2 -> 9
N3: 令和 年 月 日
A5: まんのう町長 栗田 隆義 様
J7: 所在 | M7: まんのう町▲▲
J8: 団体名 | M8: ='様式第１号（第５条関係）'!M9 -> ■■自治会
J9: 代表者名 | M9: ●● ●● | Q9: 印
A11: =" "&TEXT('様式第２号（第６条関係）'!N4,"ggg e 年")&TEXT('様式第２号（第６条関係）'!N4," m 月")&TEXT('様式第２号（第６条関係）'!N4," d 日")&"付け"&'様式第２号（第６条関係）'!N3&"で交付決定のあった補助金について、概算払を受けたいので、まんのう町コミュニティ助成事業補助金交付要項第７条第２項の規定により請求します。" -> 令和 8 年 4 月 10 日付け●ま企発第●号で交付決定のあった補助金について、概算払を受けたいので、まんのう町コミュニティ助成事業補助金交付要項第７条第２項の規定により請求します。
A13: 助成事業名 | E13: 一般コミュニティ助成事業
A15: 補助金交付決定額 | E15: ='様式第２号（第６条関係）'!G17 -> 2500000
A17: 概算払請求額 | E17: =E15 -> 2500000
A19: 振込先 | E19: 金融機関名 | H19: ☆☆ | M19: 銀行 | O19: ◇◇ | R19: 支店
E20: 種類 | H20: 普通
E21: 口座番号 | H21: ○○○○○○○
E22: フリガナ | H22: □□ジチカイ カイケイ ○○ ○○
E23: 口座名義 | H23: ■■自治会 会計 ●● ●●
A24: 備考

Sheet 様式第４号（第８条関係）
A1: 様式第４号（第８条関係）
A2: ='様式第１号（第５条関係）'!A2 -> 9
N3: 令和 年 月 日
A5: まんのう町長 栗田 隆義 様
J8: 所在 | M8: ='様式第３号（第７条関係）'!M7 -> まんのう町▲▲
J9: 団体名 | M9: ='様式第１号（第５条関係）'!M9 -> ■■自治会
J10: 代表者名 | M10: ='様式第３号（第７条関係）'!M9 -> ●● ●● | Q10: 印
A13: =" "&TEXT('様式第２号（第６条関係）'!N4,"ggg e 年")&TEXT('様式第２号（第６条関係）'!N4," m 月")&TEXT('様式第２号（第６条関係）'!N4," d 日")&"付け"&'様式第２号（第６条関係）'!N3&"で交付決定のあったコミュニティ助成事業について、次のとおり完了したので、まんのう町コミュニティ助成事業補助金交付要項第８条の規定により報告します。" -> 令和 8 年 4 月 10 日付け●ま企発第●号で交付決定のあったコミュニティ助成事業について、次のとおり完了したので、まんのう町コミュニティ助成事業補助金交付要項第８条の規定により報告します。
A15: 助成事業名 | G15: 一般コミュニティ助成事業
A17: 交付申請額 | G17: ='様式第３号（第７条関係）'!E15 -> 2500000
A19: 添付書類 | G19: (1) 補助対象事業の見積書の写し (2) 自治総合センターが定める必要書類 (3) その他
A24: 備考

Sheet 別記様式第3号（自治会→町）
N2: 令和 年 月 日
A3: まんのう町長 栗田 隆義 様
I6: ='様式第３号（第７条関係）'!M8&" "&'様式第３号（第７条関係）'!M9&" "&"印" -> ■■自治会 ●● ●● 印
D11: コミュニティ助成事業 実績報告書
A15: 別記のとおり標記に関する事業を行いたいので、助成されるよう申請します。
A18: ○ | B18: 一般コミュニティ助成事業 | L18: 青少年健全育成助成事業
B19: コミュニティセンター助成事業 | L19: 地域づくり助成事業
B20: 地域防災組織育成助成事業 | L20: ア．共生の地域づくり助成事業
B21: ア．自主防災組織育成 | L21: イ．活力ある地域づくり助成事業
B22: イ．消防団育成 | M22: 地域資源活用
B23: ウ．女性防火クラブ育成 | M23: 広域連携推進
C24: 防火防災訓練用資器材 | L24: 地域国際化推進助成事業
C25: 防火広報用視聴覚資器材 | L25: 多文化共生
B26: エ．幼年消防クラブ育成 | L26: 国際理解推進
B27: オ．女性消防隊育成
B28: カ．少年消防クラブ育成
A30: １．交付申請額（１０万円単位）
G31: =DBCS(TEXT('様式第４号（第８条関係）'!G17,"#,##0"))&"円" -> ２，５００，０００円 | N31: （消費税込､税率１０％）
F32: うち消費税額 | G32: =DBCS(TEXT('様式第４号（第８条関係）'!G17/11,"#,##0"))&"円" -> ２２７，２７３円
A36: ２．助成の決定内容
A37: （１）事業実施主体： | F37: ='様式第３号（第７条関係）'!M8 -> ■■自治会
A38: （２）助成決定額 ： | F38: =DBCS(TEXT('様式第４号（第８条関係）'!G17,"#,##0"))&"円（１０万円単位）" -> ２，５００，０００円（１０万円単位）
A39: （３）事業の名称 ： | F39: ='別記様式第1号 （町→県）'!A66 -> 地域行事用備品（折りたたみ式テント、折りたたみ机・椅子、音響設備一式、発電機）の整備
A42: ３．実施事業の内容
B43: ① 実施期間： | E43: ='別記様式第1号（自治会→町）'!E83 -> 46132 | L43: 46234
B44: ② 実施場所： | E44: ='別記様式第1号（自治会→町）'!E84 -> まんのう町▲▼ ■■集会場
B45: ③ 実施内容
B46: ='別記様式第1号（自治会→町）'!B86 -> 折りたたみ式テント○張、折りたたみ机○台、折りたたみ椅子○脚、音響設備一式（アンプ・スピーカー・ワイヤレスマイク）、発電機○台の整備
B49: ④ 収支内訳：別表ご参照
A52: ４．事業実施の成果
A53: 本助成事業により整備した行事用備品を活用し、花見・盆踊り等の地域行事を安全に実施することができた。参加者が幅広く交流を図ることができ、住民相互の親睦と地域の活性化につながった。
A57: ５．助成金の振込先
B58: 金融機関名 | K58: 銀行 | R58: 支店
F60: 銀行コード | M60: 支店コード
B62: ふりがな
B64: 口座名義
B66: 預金種類 | F66: 当座・普通・別段 | J66: ※口座番号
S68: ※口座番号は右詰、7桁で記載下さい。
A78: ６．添付資料
C79: 書類名 | L79: 必要書類 | N79: 添付書類 | P79: 備考
...

Sheet 別記様式第3号（町→県）
N1: ●ま企発第●号
N2: 令和 年 月 日
A3: 一般財団法人 自治総合センター
A4: 理事長 岡崎 浩巳 様
I6: 香川県 まんのう町長 栗田 隆義 印
N8: 登録番号 T1000020374067
D11: コミュニティ助成事業 実績報告書
A15: 令和●年3月19日付け自治セ発第●号で助成の決定を受けた事業について、その実施状況について下記の通り報告します。
A18: ○ | B18: 一般コミュニティ助成事業 | L18: 青少年健全育成助成事業
B19: コミュニティセンター助成事業 | L19: 地域づくり助成事業
B20: 地域防災組織育成助成事業 | L20: ア．共生の地域づくり助成事業
B21: ア．自主防災組織育成 | L21: イ．活力ある地域づくり助成事業
B22: イ．消防団育成 | M22: 地域資源活用
B23: ウ．女性防火クラブ育成 | M23: 広域連携推進
C24: 防火防災訓練用資器材 | L24: 地域国際化推進助成事業
C25: 防火広報用視聴覚資器材 | L25: 多文化共生
B26: エ．幼年消防クラブ育成 | L26: 国際理解推進
B27: オ．女性消防隊育成
B28: カ．少年消防クラブ育成
A30: １．交付申請額（１０万円単位）
G31: =DBCS(TEXT('様式第４号（第８条関係）'!G17,"#,##0"))&"円" -> ２，５００，０００円 | N31: （消費税込､税率１０％）
F32: うち消費税額 | G32: =DBCS(TEXT('様式第４号（第８条関係）'!G17/11,"#,##0"))&"円" -> ２２７，２７３円
A36: ２．助成の決定内容
A37: （１）事業実施主体： | F37: ='様式第３号（第７条関係）'!M8 -> ■■自治会
A38: （２）助成決定額 ： | F38: =DBCS(TEXT('様式第４号（第８条関係）'!G17,"#,##0"))&"円（１０万円単位）" -> ２，５００，０００円（１０万円単位）
A39: （３）事業の名称 ： | F39: ='別記様式第1号 （町→県）'!A66 -> 地域行事用備品（折りたたみ式テント、折りたたみ机・椅子、音響設備一式、発電機）の整備
A42: ３．実施事業の内容
B43: ① 実施期間： | E43: ='別記様式第1号（自治会→町）'!E83 -> 46132 | L43: ='別記様式第3号（自治会→町）'!L43 -> 46234
B44: ② 実施場所： | E44: ='別記様式第1号（自治会→町）'!E84 -> まんのう町▲▼ ■■集会場
B45: ③ 実施内容
B46: ='別記様式第1号（自治会→町）'!B86 -> 折りたたみ式テント○張、折りたたみ机○台、折りたたみ椅子○脚、音響設備一式（アンプ・スピーカー・ワイヤレスマイク）、発電機○台の整備
B49: ④ 収支内訳：別表ご参照
A52: ４．事業実施の成果
A53: ='別記様式第3号（自治会→町）'!A53 -> 本助成事業により整備した行事用備品を活用し、花見・盆踊り等の地域行事を安全に実施することができた。参加者が幅広く交流を図ることができ、住民相互の親睦と地域の活性化につながった。
A57: ５．助成金の振込先
B58: 金融機関名 | F58: 百十四 | K58: 銀行 | M58: 満濃 | R58: 支店
F60: 銀行コード | I60: 0 | J60: 1 | K60: 7 | L60: 3 | M60: 支店コード | P60: 2 7 6
B62: ふりがな | F62: まんのうちょう
B64: 口座名義 | F64: まんのう町
B66: 預金種類 | F66: 普通 | J66: ※口座番号 | M66: 0 | N66: 0 | O66: 0 | P66: 0 | Q66: 5 | R66: 0 | S66: 0
...

Sheet チェックリスト（実績報告書提出時）
A1: 令和９年度コミュニティ助成事業 実績報告書提出時チェックリスト
B2: 書類名 | C2: 確認事項 | D2: 市（区）町村 チェック欄 | E2: 都道府県 チェック欄 | F2: 自治総合センター チェック欄
D3: 該当項目を「○」「×」でチェック （該当しない事業の項目は斜線）
A4: ◯ | B4: ☓
A5: 都道府県・市（区）町村名： | C5: ="事業実施主体名："&'別記様式第1号（自治会→町）'!G41 -> 事業実施主体名：■■自治会 | D5: 助成事業名： | E5: 一般コミュニティ
C6: ・提出書類は原則A4縦サイズ及びA3横サイズとしてください。上記以外のサイズ（A4横向き、A3縦向きで印刷されたものも含む）の書類は添付しないようにお願いします。（7 印刷物、8 広報誌は除く） | D6: ◯
A7: 1 | B7: 報告書（別記様式第３号及び別表）※原本を提出 | C7: ・「記載の仕方」に従って、すべての項目の記載が行われているか？ | D7: ◯
C8: 【実績報告日】 ・事業完了日から2ヶ月以内かつ令和10年4月7日迄に、自治総合センターに送達可能な日付となっているか？ | D8: ◯
C9: 【登録番号】 ・適格請求書等保存方式（インボイス制度）に基づき、市（区）町村等の登録番号（Tおよび数字で構成）が記載されているか？ | D9: ◯
C10: 【交付申請額】 ・10万円単位となっているか？ ・助成決定額と相違がないか？（当該助成事業における上限・下限金額の範囲内であるか？） ・事業費総額を超えていないか？ ・別添「交付申請額に対する消費税額一覧」に基づき、消費税額が記載されているか？ | D10: ◯
C11: 【助成の決定内容】 ・事業実施主体に相違がないか？ ・助成決定額に相違がないか？（10万円単位となっているか？） ・事業の名称に相違はないか？ | D11: ◯
C12: 【実施事業の内容】 ・事業実施期間（事業開始日～事業完了日）は、令和９年度内となっているか？ ・実施場所、実施内容は、決定内容と相違がないか？ ・別表に記載の内容は、決定内容と相違がないか？決定内容から変更が生じている場合は、事前協議を実施しているか？ ・事業支出の内訳は、請求書・納品書等の記載内容と一致しているか？ | D12: ◯
C13: 【事業実施の成果】 ・事業実施の成果の説明がなされているか？ | D13: ◯
C14: 【助成金の振込先】 ・銀行（金融機関）コード・支店コードに間違いはないか？ ・口座名義ふりがなに間違いはないか？ ・預金種類・口座番号（右詰、7桁）に間違いはないか？ | D14: ◯
C15: 【添付資料】 ・添付資料に不足はないか？ ・順番通りに添付されているか？ | D15: ◯
C16: ・市（区）町村連絡責任者欄に記載がなされているか？ | D16: ◯
A17: 2 | B17: 市（区）町村歳入歳出予算書（抜粋でも可） ※要原本証明 | C17: ・原本証明の表記および原本証明印があるか？（コピーは不可） | D17: ◯
C18: ・歳入の雑入に計上されているか？ ・歳入歳出の予算計上されている当該箇所が示されているか？（当該箇所をマーキングをすること。） | D18: ◯
A19: 3 | B19: 領収書等支払関連資料 ※コピーで可 | C19: ・業者へ支払いをした領収書等が添付されているか？ ・市（区）町村が支払を実施した場合は、支払日や支払が完了したことがわかる資料（支払済印や領収済印のある支出命令書等）が添付されているか？ | D19: ◯
C20: ・宛名（支払人）は事業実施主体と同一か？ ・領収（支払）日は令和９年度内となっているか？ ・合計金額は事業費総額と一致しているか？ ・発行元（支払先業者）が確認できるか？ | D20: ◯
C21: ・支払内容の内訳がわかるか？（内訳が記載されていない場合は、請求書や納品書を添付すること） | D21: ◯
C22: 【ハード事業の場合】 ・市（区）町村が備品を購入し、コミュニティ組織等に譲渡している場合は譲渡証明を提出すること。 | D22: ◯
A23: 4 | B23: 建物登記簿謄本 ※原本を提出 | C23: 【コミュニティセンター助成事業の場合】 ・認可地縁団体を登記名義人として所有権保存登記を行っているか？（表題登記のみは不可）
A24: 5 | B24: 管理運営規程、備品台帳 ※コピーで可 | C24: 【ハード事業の場合】 ・管理方法は決定内容と相違がないか？ ・管理運営規程に、整備した備品・設備の内容が記載されていない場合は、備品台帳も添付されているか？ ・管理運営規程及び備品台帳に事業実施主体名が記載されているか？ ・（案）のまま、日付が空欄のままとなっていないか？ | D24: ◯
A25: 6 | B25: 土地登記簿謄本 ※コピーで可 | C25: 【土地を要する事業の場合】 ・実績報告日前3ヶ月以内発行のものとなっているか？ ・対象となるすべての地番の謄本が添付されているか？
A26: 7 | B26: 公図 ※コピーで可 | C26: 【土地を要する事業の場合】 ・実績報告日前3ヶ月以内発行のものとなっているか？ ・対象となるすべての地番の公図が添付されているか？
A27: 8 | B27: 土地が使用できる根拠書類 （契約書・承諾書等） ※コピーで可 | C27: 【土地を要する事業の場合】 ・対象となるすべての地番の根拠書類が添付されているか？ ・土地所有者から事業実施主体宛ての契約書・承諾書となっているか？ ・日付、土地所有者の印鑑が確認できるか？
A28: 9 | B28: 建物が使用できる根拠書類 （契約書・承諾書等） ※コピーで可 | C28: 【建物を要する事業の場合】 ・対象となるすべての建物の根拠書類が添付されているか？ ・建物所有者から事業実施主体宛ての契約書・承諾書となっているか？ ・日付、建物所有者の印鑑が確認できるか？
A29: 10 | B29: カラー写真 ※デジカメ画像のプリントで可 ※白黒での印刷は不可 | C29: 【ハード事業の場合】（留意事項別紙2参照） ・整備した備品（付属品・部品を含む）・設備の全ての内容（数量、備品名との一致等）が写真で確認できるか？ ・整備した備品（付属品・部品を含む）・設備の全ての数量に宝くじの社会貢献広報表示が行われていることが写真で確認できるか？ ・剥離の懸念はないか？ | D29: ◯
C30: 【ソフト事業の場合】（留意事項別紙2参照） ・事業の実施風景及びソフト事業開催日当日の宝くじの社会貢献広報表示が確認できるか？ ・事業において作成した看板等に宝くじの社会貢献広報表示（デザインマニュアルによる）が確認できるか？
C31: （留意事項別紙2参照） ・宝くじの社会貢献広報表示は広報効果が発揮できる場所・大きさとなっているか？ ・宝くじの社会貢献広報表示のカラー表示が鮮明・明瞭に確認できるか？ | D31: ◯
C32: （宝くじの社会貢献広報：表示に関するデザインマニュアル参照） ・「宝くじの社会貢献広報：表示に関するデザインマニュアル」に準拠した宝くじの社会貢献広報表示となっているか？ | D32: ◯
A33: 11 | B33: 印刷物（ポスター、チラシ等） ※原本を提出 | C33: 【ソフト事業の場合】 ・「宝くじの社会貢献広報：表示に関するデザインマニュアル」に準拠した宝くじの社会貢献広報表示となっているか？ ・宝くじの社会貢献広報表示は広報効果が発揮できる場所・大きさとなっているか？ ・事業において作成した印刷物、配布物はすべて添付されているか？
A34: 12 | B34: 市（区）町村の広報誌 ※原本を提出 もしくはホームページ画面カラー印刷 | C34: ・「宝くじの社会貢献広報事業の紹介」と、「宝くじの助成金で整備した」「宝くじの助成金で実施した」旨のどちらも確認できる記事となっているか？ | D34: ◯
C35: 【ホームページに掲載の場合】(申請時に協議が必要） ・トップページにクーちゃんのバナーが掲載されているか？ ・ホームページの掲載期間は3ヶ月以上となっているか？
C36: 【広報誌後日追加送付の場合】（令和9年度内発送厳守） ・広報誌発行予定（ 月号予定） ・センター宛発送時期（ ／ 予定） | D36: ◯
A37: 13 | B37: その他資料 | C37: ・上記以外で、自治総合センターから個別に指示されている資料が添付されているか？
C38: ・上記チェック欄はすべて「○」となっているか？ ・一つでも「×」がある場合は、実績報告書の提出は不可。必ず、都道府県・自治総合センターへ連絡の上、対応を協議すること。 | D38: ◯
B39: その他連絡事項
A40: 【ハード事業（施設又は設備の整備に関する事業）】 一般コミュニティ、コミュニティセンター、地域防災組織育成、地域づくり区分アのハード事業の各助成事業 【ソフト事業】 地域づくり区分アのソフト事業、地域づくり区分イ、地域の芸術環境づくりの各助成事業
...

Sheet 様式第５号（第９条関係）
A1: 様式第５号（第９条関係）
N3: ●ま企発第●号
N4: 令和 年 月 日
C6: ='様式第１号（第５条関係）'!A2 -> 9
A8: 団体名 | D8: ='様式第１号（第５条関係）'!M9 -> ■■自治会
A9: 代表者名 | D9: ='様式第４号（第８条関係）'!M10 -> ●● ●● | H9: 様
M11: まんのう町長 栗田 隆義 印
A13: =" "&TEXT('様式第４号（第８条関係）'!N3,"ggge年m月d日")&"付けで実績報告のあった補助金については、内容の審査を行った結果、次のとおり補助金の交付額を確定したので、まんのう町コミュニティ助成事業補助金交付要項第９条の規定により通知します。" -> 令和 年 月 日付けで実績報告のあった補助金については、内容の審査を行った結果、次のとおり補助金の交付額を確定したので、まんのう町コミュニティ助成事業補助金交付要項第９条の規定により通知します。
A15: 助 成 事 業 名 | G15: 一般コミュニティ助成事業
A17: 補助金交付決定額 | G17: ='様式第２号（第６条関係）'!G17 -> 2500000
A19: 補助金交付確定額 | G19: =G17 -> 2500000
A21: 付 記 | G21: １ コミュニティ助成事業補助金交付請求書（様式第６号）により、 速やかに補助金の交付を請求してください。 ２ 補助金の概算払を受けている場合は、コミュニティ助成事業補助 金概算払精算書（様式第７号）により、速やかに補助金の精算をし てください。
A26: 備 考

Sheet 様式第６号（第１０条関係）
A1: 様式第６号（第１０条関係）
A2: ='様式第１号（第５条関係）'!A2 -> 9
N3: 令和 年 月 日
A5: まんのう町長 栗田 隆義 様
J7: 所在 | M7: ='様式第４号（第８条関係）'!M8 -> まんのう町▲▲
J8: 団体名 | M8: ='様式第１号（第５条関係）'!M9 -> ■■自治会
J9: 代表者名 | M9: ='様式第４号（第８条関係）'!M10 -> ●● ●● | Q9: 印
A11: =" "&TEXT('様式第５号（第９条関係）'!N4,"ggge年m月d日")&"付け"&'様式第５号（第９条関係）'!N3&"で補助金交付額確定通知を受けた補助金について、まんのう町コミュニティ助成事業補助金交付要項第１０条第１項の規定により次のとおり請求します。" -> 令和 年 月 日付け●ま企発第●号で補助金交付額確定通知を受けた補助金について、まんのう町コミュニティ助成事業補助金交付要項第１０条第１項の規定により次のとおり請求します。
A13: 助成事業名 | E13: 一般コミュニティ助成事業
A15: 補助金交付決定額 | E15: ='様式第２号（第６条関係）'!G17 -> 2500000
A17: 概算払請求額 | E17: =E15 -> 2500000
A19: 振 込 先 | E19: 金融機関名 | M19: 銀行 | R19: 支店
E20: 種類 | H20: 普通
E21: 口座番号
E22: フリガナ
E23: 口座名義
A24: 備 考

Sheet 様式第７号（第１０条関係）
A1: 様式第７号（第１０条関係）
A2: ='様式第１号（第５条関係）'!A2 -> 9
N3: 令和 年 月 日
A5: まんのう町長 栗田 隆義 様
J7: 所在 | M7: ='様式第４号（第８条関係）'!M8 -> まんのう町▲▲
J8: 団体名 | M8: ='様式第１号（第５条関係）'!M9 -> ■■自治会
J9: 代表者名 | M9: ='様式第４号（第８条関係）'!M10 -> ●● ●● | Q9: 印
A11: =" "&TEXT('様式第５号（第９条関係）'!N4,"ggge年m月d日")&"付け"&'様式第５号（第９条関係）'!N3&"で補助金額確定通知を受けた補助金について、まんのう町コミュニティ助成事業補助金交付要項第１０条第２項の規定により次のとおり精算します。" -> 令和 年 月 日付け●ま企発第●号で補助金額確定通知を受けた補助金について、まんのう町コミュニティ助成事業補助金交付要項第１０条第２項の規定により次のとおり精算します。
A13: 助成事業名 | E13: 一般コミュニティ助成事業
A15: 補助金交付確定額 | E15: ='様式第２号（第６条関係）'!G17 -> 2500000
A17: 概算払受領済額 | E17: =E15 -> 2500000
A19: 精算額 | B19: 追加請求額 | E19: 0
B21: 返 納 額 | E21: 0
A23: 振 込 先 | E23: 金融機関名 | H23: ='様式第３号（第７条関係）'!H19 -> ☆☆ | M23: 銀行 | O23: ='様式第３号（第７条関係）'!O19 -> ◇◇ | R23: 支店
E24: 種類 | H24: ='様式第３号（第７条関係）'!H20 -> 普通
E25: 口座番号 | H25: ='様式第３号（第７条関係）'!H21 -> ○○○○○○○
E26: フリガナ | H26: ='様式第３号（第７条関係）'!H22 -> □□ジチカイ カイケイ ○○ ○○
E27: 口座名義 | H27: ='様式第３号（第７条関係）'!H23 -> ■■自治会 会計 ●● ●●
A28: 備 考
